BEGIN:VCALENDAR
VERSION:2.0
PRODID:-//wp-events-plugin.com//7.2.3.1//EN
BEGIN:VEVENT
UID:659@roterfaden-oberberg.de
DTSTART:20260424T193000Z
DTEND:20260424T193000Z
DTSTAMP:20260417T153710Z
URL:https://www.roterfaden-oberberg.de/events/acoustic-roots-live-im-kultu
 r-haus-zach/
SUMMARY:"Acoustic Roots" live im Kultur-Haus Zach
DESCRIPTION:Am Freitag\, den 24. April 2026 präsentiert der Gitarrist Uwe
  Sandfort im Hückeswagener Kultur-Haus Zach an der Islandstraße einen Ko
 nzertabend voller Klangfarben\, Emotionen und musikalischer Erzählkunst. 
  \nDer erfahrene Musiker\, der seit Jahrzehnten auf den Bühnen zuhause is
 t\, widmet sich an diesem Abend ganz seinen eigenen Kompositionen. Konzert
 beginn ist um 20:30 Uhr.\n \n
ATTACH;FMTTYPE=image/jpeg:https://www.roterfaden-oberberg.de/wp-content/up
 loads/2026/04/Uwe-Sandfort-Foto-Kira-Kellermann-3-002-1.jpg
CATEGORIES:Musikevent
LOCATION:Kulturhaus Zach\, Islandstraße 5-7\, Hückeswagen\, 42499\, Deuts
 chland
X-APPLE-STRUCTURED-LOCATION;VALUE=URI;X-ADDRESS=Islandstraße 5-7\, Hückes
 wagen\, 42499\, Deutschland;X-APPLE-RADIUS=100;X-TITLE=Kulturhaus Zach:geo
 :0,0
END:VEVENT
END:VCALENDAR