BEGIN:VCALENDAR
VERSION:2.0
PRODID:-//wp-events-plugin.com//7.2.3.1//EN
BEGIN:VEVENT
UID:547@roterfaden-oberberg.de
DTSTART:20260726T100000Z
DTEND:20260726T160000Z
DTSTAMP:20260105T150004Z
URL:https://www.roterfaden-oberberg.de/events/denklingen-raritaetenmarkt-r
 und-ums-rathaus-und-auf-dem-burghof/
SUMMARY:Denklingen\, Raritätenmarkt\, Rund ums Rathaus und auf dem Burghof
DESCRIPTION:1 Mal im Jahr findet  in Reichshof-Denklingen\, Rund ums Rathau
 s\, Rathausplatz und auf dem Burghof der "Denklinger Trödelmarkt" \, \nei
 ne Art Stadtflohmarkt mit 90 % Trödel\, Antik und Kunsthandwerk statt.\n\
 n
ATTACH;FMTTYPE=image/jpeg:https://www.roterfaden-oberberg.de/wp-content/up
 loads/2025/02/sfloh.jpg
CATEGORIES:Trödelmarkt
LOCATION:Denklingen Zentrum\, Hauptstr. 12\, Reichshof-Denklingen\, 51580 \
 , 
X-APPLE-STRUCTURED-LOCATION;VALUE=URI;X-ADDRESS=Hauptstr. 12\, Reichshof-De
 nklingen\, 51580 \, ;X-APPLE-RADIUS=100;X-TITLE=Denklingen Zentrum:geo:0,0
END:VEVENT
END:VCALENDAR