BEGIN:VCALENDAR
VERSION:2.0
PRODID:-//wp-events-plugin.com//7.2.3.1//EN
BEGIN:VEVENT
UID:536@roterfaden-oberberg.de
DTSTART:20260824T130000Z
DTEND:20260828T160000Z
DTSTAMP:20260105T133905Z
URL:https://www.roterfaden-oberberg.de/events/ferienzauber-auf-dem-pferdeh
 of-mildsiefen-2/
SUMMARY:Ferienzauber auf dem Pferdehof Mildsiefen
DESCRIPTION:Der Pferdehof Mildsiefen öffnet seine Tore für eine unvergess
 liche Erlebniswoche voller Bewegung\, Natur und tierischer Freundschaft!  
 \nDie Kinder verbringen spannende Tage auf dem Hof\, erleben echtes Stalll
 eben und dürfen vieles selbst ausprobieren. \nJeden Tag werden neue Highl
 ights und Aktivitäten rund ums Pferd angeboten..  \n\n\n\n\n\n\n\n\n
ATTACH;FMTTYPE=image/jpeg:https://www.roterfaden-oberberg.de/wp-content/up
 loads/2025/12/pony.jpg
CATEGORIES:Kinder,Workshop
LOCATION:Pferdehof Mildsiefen\, Mildsiefen 11\, Nümbrecht\, 51588\, Deutsc
 hland
X-APPLE-STRUCTURED-LOCATION;VALUE=URI;X-ADDRESS=Mildsiefen 11\, Nümbrecht\
 , 51588\, Deutschland;X-APPLE-RADIUS=100;X-TITLE=Pferdehof Mildsiefen:geo:
 0,0
END:VEVENT
END:VCALENDAR