BEGIN:VCALENDAR
VERSION:2.0
PRODID:-//wp-events-plugin.com//7.2.3.1//EN
BEGIN:VEVENT
UID:541@roterfaden-oberberg.de
DTSTART:20261024T133000Z
DTEND:20261024T160000Z
DTSTAMP:20260105T140650Z
URL:https://www.roterfaden-oberberg.de/events/froehlicher-herbstausflug-mi
 t-pony-und-sulky/
SUMMARY:Fröhlicher Herbstausflug mit Pony und Sulky
DESCRIPTION:Bei diesem besonderen Herbstausflug erleben Kinder Ponyzauber\,
  Sulkyspaß und kreatives Herbstbasteln inmitten der farbenfrohen Jahresze
 it. \n\n\n\n\n\n\n\n\n\n
ATTACH;FMTTYPE=image/jpeg:https://www.roterfaden-oberberg.de/wp-content/up
 loads/2025/12/pony.jpg
CATEGORIES:Kinder,Workshop
LOCATION:Pferdehof Mildsiefen\, Mildsiefen 11\, Nümbrecht\, 51588\, Deutsc
 hland
X-APPLE-STRUCTURED-LOCATION;VALUE=URI;X-ADDRESS=Mildsiefen 11\, Nümbrecht\
 , 51588\, Deutschland;X-APPLE-RADIUS=100;X-TITLE=Pferdehof Mildsiefen:geo:
 0,0
END:VEVENT
END:VCALENDAR