BEGIN:VCALENDAR
VERSION:2.0
PRODID:-//wp-events-plugin.com//7.2.3.1//EN
BEGIN:VEVENT
UID:552@roterfaden-oberberg.de
DTSTART:20260614T100000Z
DTEND:20260614T160000Z
DTSTAMP:20260105T151234Z
URL:https://www.roterfaden-oberberg.de/events/gummersbach-rebbelroth-troed
 elmarkt-beim-hit-markt-4/
SUMMARY:Gummersbach-Rebbelroth\, Trödelmarkt beim HIT-Markt
DESCRIPTION:Der Dachboden steht voll\, im Keller ist schon lange kein Platz
  mehr - höchste Zeit\, mal ordentlich zu entrümpeln.\nSchon lange kein S
 chnäppchen mehr gemacht? Hier werdet ihr bestimmt fündig!
ATTACH;FMTTYPE=image/jpeg:https://www.roterfaden-oberberg.de/wp-content/up
 loads/2024/06/Logo-GH-gelb-Troedelmaerkte-700x700-1.jpg
CATEGORIES:Trödelmarkt
LOCATION:HIT-Markt\, Gummersbach-Rebbelroth\, Kölner Straße 223\, 51645 G
 ummersbach\, Deutschland
X-APPLE-STRUCTURED-LOCATION;VALUE=URI;X-ADDRESS=Kölner Straße 223\, 51645
  Gummersbach\, Deutschland;X-APPLE-RADIUS=100;X-TITLE=HIT-Markt\, Gummersb
 ach-Rebbelroth:geo:0,0
END:VEVENT
END:VCALENDAR