BEGIN:VCALENDAR
VERSION:2.0
PRODID:-//wp-events-plugin.com//7.2.3.1//EN
BEGIN:VEVENT
UID:548@roterfaden-oberberg.de
DTSTART:20260517T100000Z
DTEND:20260517T160000Z
DTSTAMP:20260105T150302Z
URL:https://www.roterfaden-oberberg.de/events/gummersbach-riesen-stadtfloh
 markt-in-der-fussgaengerzone-nur-2x-im-jahr/
SUMMARY:Gummersbach\, Riesen Stadtflohmarkt in der Fußgängerzone. Nur 2x 
 im Jahr!
DESCRIPTION:Stadtflohmarkt in der großen Fußgängerzone! \n\nEin Flohmark
 t\, wie zu alten Zeiten! \n\nAntik-\, Floh- und Jahrmarkt mit 90 % Trödel
 \, Antik und Kunsthandwerk. Es wird nur 10 % Neuware zugelassen!\n\n\n
ATTACH;FMTTYPE=image/jpeg:https://www.roterfaden-oberberg.de/wp-content/up
 loads/2025/02/sfloh.jpg
CATEGORIES:Trödelmarkt
LOCATION:Denklingen Zentrum\, Hauptstr. 12\, Reichshof-Denklingen\, 51580 \
 , 
X-APPLE-STRUCTURED-LOCATION;VALUE=URI;X-ADDRESS=Hauptstr. 12\, Reichshof-De
 nklingen\, 51580 \, ;X-APPLE-RADIUS=100;X-TITLE=Denklingen Zentrum:geo:0,0
END:VEVENT
END:VCALENDAR