BEGIN:VCALENDAR
VERSION:2.0
PRODID:-//wp-events-plugin.com//7.2.3.1//EN
BEGIN:VEVENT
UID:654@roterfaden-oberberg.de
DTSTART:20260430T150000Z
DTEND:20260430T150000Z
DTSTAMP:20260415T144857Z
URL:https://www.roterfaden-oberberg.de/events/hallo-mai-im-suempfchen/
SUMMARY:Hallo Mai im Sümpfchen
DESCRIPTION:Genießt den Abend unter freiem Himmel\, stoßt an mit Freunden
  und lasst euch von unserer fruchtigen\, erfrischenden Maibowle durch die 
 Nacht begleiten. \nPerfekt\, um gemeinsam den Frühling zu feiern und die 
 ersten warmen Abende zu genießen.\n \n
ATTACH;FMTTYPE=image/jpeg:https://www.roterfaden-oberberg.de/wp-content/up
 loads/2026/04/69d4e88f82a76.jpg
CATEGORIES:Party
LOCATION:Sümpfchen\, Homburgerstr. 3\, Wiehl\, 51674\, Deutschland
X-APPLE-STRUCTURED-LOCATION;VALUE=URI;X-ADDRESS=Homburgerstr. 3\, Wiehl\, 5
 1674\, Deutschland;X-APPLE-RADIUS=100;X-TITLE=Sümpfchen:geo:0,0
END:VEVENT
END:VCALENDAR