BEGIN:VCALENDAR
VERSION:2.0
PRODID:-//wp-events-plugin.com//7.2.3.1//EN
BEGIN:VEVENT
UID:653@roterfaden-oberberg.de
DTSTART:20260424T170000Z
DTEND:20260424T170000Z
DTSTAMP:20260415T130534Z
URL:https://www.roterfaden-oberberg.de/events/happy-hour-2-fuer-1-im-suemp
 fchen/
SUMMARY:Happy Hour 2-für-1 im Sümpfchen
DESCRIPTION:Ob ihr nach Feierabend entspannt starten\, mit Freunden anstoß
 en oder einfach mal neue Drinks ausprobieren wollt – hier ist eure Geleg
 enheit\, doppelt zu genießen und richtig Spaß zu haben.\n \n
ATTACH;FMTTYPE=image/jpeg:https://www.roterfaden-oberberg.de/wp-content/up
 loads/2026/04/69d4e8563b250-1.jpg
CATEGORIES:Party
LOCATION:Sümpfchen\, Homburgerstr. 3\, Wiehl\, 51674\, Deutschland
X-APPLE-STRUCTURED-LOCATION;VALUE=URI;X-ADDRESS=Homburgerstr. 3\, Wiehl\, 5
 1674\, Deutschland;X-APPLE-RADIUS=100;X-TITLE=Sümpfchen:geo:0,0
END:VEVENT
END:VCALENDAR