BEGIN:VCALENDAR
VERSION:2.0
PRODID:-//wp-events-plugin.com//7.2.3.1//EN
BEGIN:VEVENT
UID:460@roterfaden-oberberg.de
DTSTART:20260718T190000Z
DTEND:20260718T190000Z
DTSTAMP:20260122T112238Z
URL:https://www.roterfaden-oberberg.de/events/juergen-beckers/
SUMMARY:Jürgen Beckers
DESCRIPTION:Wie das Leben so spielt …“ \nmit Jürgen B. Hausmann alias 
 Jürgen Beckers \nDer Hausmann erzählt aus 25 Jahren Kabarett und 60 Lebe
 nsjahren!
ATTACH;FMTTYPE=image/jpeg:https://www.roterfaden-oberberg.de/wp-content/up
 loads/2025/11/2511_Juergen_Beckers_.png
LOCATION:Aula des Hollenberg Gymnasiums\, Goethestraße 6\, Waldbröl\, 515
 45\, Deutschland
X-APPLE-STRUCTURED-LOCATION;VALUE=URI;X-ADDRESS=Goethestraße 6\, Waldbröl
 \, 51545\, Deutschland;X-APPLE-RADIUS=100;X-TITLE=Aula des Hollenberg Gymn
 asiums:geo:0,0
END:VEVENT
END:VCALENDAR