BEGIN:VCALENDAR
VERSION:2.0
PRODID:-//wp-events-plugin.com//7.2.3.1//EN
BEGIN:VEVENT
UID:662@roterfaden-oberberg.de
DTSTART:20260505T090000Z
DTEND:20260505T150000Z
DTSTAMP:20260420T161003Z
URL:https://www.roterfaden-oberberg.de/events/menschenrechte-sind-nicht-ve
 rhandelbar/
SUMMARY:Menschenrechte sind nicht verhandelbar
DESCRIPTION:Informationen und Mitmachaktionen zum europäischen Protesttag 
 zur Gleichstellung von Menschen mit Behinderung. \n\nZeichen setzen für g
 leichberechtigte Teilhabe aller Menschen im OBK.
ATTACH;FMTTYPE=image/jpeg:https://www.roterfaden-oberberg.de/wp-content/up
 loads/2026/04/69e61200c9cbf.jpg
CATEGORIES:Infoveranstaltung
LOCATION:Lindenplatz Gummersbach\, Hindenburgstr. 6\, Gummersbach\, 51643\,
  Deutschland
X-APPLE-STRUCTURED-LOCATION;VALUE=URI;X-ADDRESS=Hindenburgstr. 6\, Gummersb
 ach\, 51643\, Deutschland;X-APPLE-RADIUS=100;X-TITLE=Lindenplatz Gummersba
 ch:geo:0,0
END:VEVENT
END:VCALENDAR