BEGIN:VCALENDAR
VERSION:2.0
PRODID:-//wp-events-plugin.com//7.2.3.1//EN
BEGIN:VEVENT
UID:556@roterfaden-oberberg.de
DTSTART:20260604T100000Z
DTEND:20260604T160000Z
DTSTAMP:20260105T152246Z
URL:https://www.roterfaden-oberberg.de/events/nuembrecht-bergischer-pruell
 enmarkt-im-historischen-ortskern-4/
SUMMARY:Nümbrecht\, Bergischer Prüllenmarkt im historischen Ortskern
DESCRIPTION:Der Dachboden steht voll\, im Keller ist schon lange kein Platz
  mehr - höchste Zeit\, mal ordentlich zu entrümpeln. \nSchon lange kein 
 Schnäppchen mehr gemacht? Hier werdet ihr bestimmt fündig!
ATTACH;FMTTYPE=image/jpeg:https://www.roterfaden-oberberg.de/wp-content/up
 loads/2024/06/Logo-GH-gelb-Troedelmaerkte-700x700-1.jpg
CATEGORIES:Trödelmarkt
LOCATION:Nümbrecht\, Ortskern\, Hauptstraße 51\, 51588 Nümbrecht\, Deuts
 chland
X-APPLE-STRUCTURED-LOCATION;VALUE=URI;X-ADDRESS=Hauptstraße 51\, 51588 Nü
 mbrecht\, Deutschland;X-APPLE-RADIUS=100;X-TITLE=Nümbrecht\, Ortskern:geo
 :0,0
END:VEVENT
END:VCALENDAR