BEGIN:VCALENDAR
VERSION:2.0
PRODID:-//wp-events-plugin.com//7.2.3.1//EN
BEGIN:VEVENT
UID:607@roterfaden-oberberg.de
DTSTART:20260906T120000Z
DTEND:20260906T150000Z
DTSTAMP:20260223T082224Z
URL:https://www.roterfaden-oberberg.de/events/offener-sonntag-im-tierheim-
 koppelweide-20/
SUMMARY:Offener Sonntag im Tierheim Koppelweide
DESCRIPTION:Offener Sonntag im Tierheim Koppelweide vom Tierschutzverein Ob
 erberg e.V. \n \nJeden ersten Sonntag im Monat hat unser Tierheim von 13 U
 hr bis 16 Uhr für Besucher geöffnet. \nEs gibt Kuchen und frisch gebacke
 ne Waffeln. Außerdem gibt es immer schöne selbst gebastelte Sachen. \nDe
 r Erlös kommt zu 100% unseren Bewohnern zu Gute!
ATTACH;FMTTYPE=image/jpeg:https://www.roterfaden-oberberg.de/wp-content/up
 loads/2024/08/66b21207795d4.jpg
LOCATION:Tierheim Koppelweide\, Koppelweide 3\, Wiehl\, 51674\, Deutschland
X-APPLE-STRUCTURED-LOCATION;VALUE=URI;X-ADDRESS=Koppelweide 3\, Wiehl\, 516
 74\, Deutschland;X-APPLE-RADIUS=100;X-TITLE=Tierheim Koppelweide:geo:0,0
END:VEVENT
END:VCALENDAR