BEGIN:VCALENDAR
VERSION:2.0
PRODID:-//wp-events-plugin.com//7.2.3.1//EN
BEGIN:VEVENT
UID:661@roterfaden-oberberg.de
DTSTART:20260426T100000Z
DTEND:20260426T160000Z
DTSTAMP:20260420T155358Z
URL:https://www.roterfaden-oberberg.de/events/offenes-musizieren-und-singe
 n-jubilaeumsfeier-des-frauenchores-drabenderhoehe/
SUMMARY:Offenes Musizieren und Singen - Jubiläumsfeier des Frauenchores Dr
 abenderhöhe
DESCRIPTION:Das 75-jährige Bestehen des Chores feiert der Frauenchor Drabe
 nderhöhe mit einem offenen Musizieren. \n\nDazu lädt der Chor befreundet
 e Chöre und Musikgruppen aus dem Umkreis ein.
ATTACH;FMTTYPE=image/jpeg:https://www.roterfaden-oberberg.de/wp-content/up
 loads/2026/04/Unbenannt.png
CATEGORIES:Musikevent
LOCATION:Gemeindehaus Drabenderhöhe\, Drabenderhöher Str. 30\, Wiehl\, 51
 674\, Deutschland
X-APPLE-STRUCTURED-LOCATION;VALUE=URI;X-ADDRESS=Drabenderhöher Str. 30\, W
 iehl\, 51674\, Deutschland;X-APPLE-RADIUS=100;X-TITLE=Gemeindehaus Drabend
 erhöhe:geo:0,0
END:VEVENT
END:VCALENDAR