BEGIN:VCALENDAR
VERSION:2.0
PRODID:-//wp-events-plugin.com//7.2.3.1//EN
BEGIN:VEVENT
UID:540@roterfaden-oberberg.de
DTSTART:20261019T133000Z
DTEND:20261019T160000Z
DTSTAMP:20260105T140459Z
URL:https://www.roterfaden-oberberg.de/events/pferdeerlebnistag-abenteuer-
 fuer-kleine-pferdefreunde-3/
SUMMARY:Pferdeerlebnistag – Abenteuer für kleine Pferdefreunde
DESCRIPTION:Die Kinder begeben sich auf eine spannende Reise in die Welt de
 r Pferde.  \nEin unvergessliches Erlebnis voller Action\, Spaß und tieris
 cher Freude.  \nDie kleinen Pferdefreunde streicheln und putzen die Pferde
 \, dürfen sich während der kleinen Reitrunden wie echte Reiter fühlen u
 nd als Highlight mit dem Shetlandpony Vivi und ihrem Sulky mitfahren.\n\n\
 n\n\n\n\n\n\n\n
ATTACH;FMTTYPE=image/jpeg:https://www.roterfaden-oberberg.de/wp-content/up
 loads/2025/12/pony.jpg
CATEGORIES:Kinder,Workshop
LOCATION:Pferdehof Mildsiefen\, Mildsiefen 11\, Nümbrecht\, 51588\, Deutsc
 hland
X-APPLE-STRUCTURED-LOCATION;VALUE=URI;X-ADDRESS=Mildsiefen 11\, Nümbrecht\
 , 51588\, Deutschland;X-APPLE-RADIUS=100;X-TITLE=Pferdehof Mildsiefen:geo:
 0,0
END:VEVENT
END:VCALENDAR