BEGIN:VCALENDAR
VERSION:2.0
PRODID:-//wp-events-plugin.com//7.2.3.1//EN
BEGIN:VEVENT
UID:531@roterfaden-oberberg.de
DTSTART:20260516T133000Z
DTEND:20260516T160000Z
DTSTAMP:20260105T130737Z
URL:https://www.roterfaden-oberberg.de/events/pferdeerlebnistag-abenteuer-
 fuer-kleine-pferdefreunde/
SUMMARY:Pferdeerlebnistag – Abenteuer für kleine Pferdefreunde
DESCRIPTION:Die Kinder begeben sich auf eine spannende Reise in die Welt de
 r Pferde.  \nEin unvergessliches Erlebnis voller Action\, Spaß und tieris
 cher Freude.\n\n\n\n\n
ATTACH;FMTTYPE=image/jpeg:https://www.roterfaden-oberberg.de/wp-content/up
 loads/2025/12/pony.jpg
CATEGORIES:Kinder,Workshop
LOCATION:Pferdehof Mildsiefen\, Mildsiefen 11\, Nümbrecht\, 51588\, Deutsc
 hland
X-APPLE-STRUCTURED-LOCATION;VALUE=URI;X-ADDRESS=Mildsiefen 11\, Nümbrecht\
 , 51588\, Deutschland;X-APPLE-RADIUS=100;X-TITLE=Pferdehof Mildsiefen:geo:
 0,0
END:VEVENT
END:VCALENDAR