BEGIN:VCALENDAR
VERSION:2.0
PRODID:-//wp-events-plugin.com//7.2.3.1//EN
BEGIN:VEVENT
UID:532@roterfaden-oberberg.de
DTSTART:20260613T140000Z
DTEND:20260613T160000Z
DTSTAMP:20260105T131203Z
URL:https://www.roterfaden-oberberg.de/events/pony-beauty-salon-ein-verwoe
 hntag-fuer-kinder-und-unser-shetlandpony-vivi/
SUMMARY:Pony Beauty Salon – Ein Verwöhntag für Kinder und unser Shetlan
 dpony Vivi
DESCRIPTION:In unserem Pony Beauty Salon dreht sich alles um ein ganz beson
 deres Pony\, das sich für den Tag so richtig verwöhnen lassen darf.  \nD
 ie Kinder erleben intensive\, ruhige und liebevolle Begegnungen mit unsere
 m Hofliebling Vivi – und entdecken\, wie viel Spaß echte Pony-Pflege ma
 cht! \n\n\n\n\n\n
ATTACH;FMTTYPE=image/jpeg:https://www.roterfaden-oberberg.de/wp-content/up
 loads/2025/12/pony.jpg
CATEGORIES:Kinder,Workshop
LOCATION:Pferdehof Mildsiefen\, Mildsiefen 11\, Nümbrecht\, 51588\, Deutsc
 hland
X-APPLE-STRUCTURED-LOCATION;VALUE=URI;X-ADDRESS=Mildsiefen 11\, Nümbrecht\
 , 51588\, Deutschland;X-APPLE-RADIUS=100;X-TITLE=Pferdehof Mildsiefen:geo:
 0,0
END:VEVENT
END:VCALENDAR