BEGIN:VCALENDAR
VERSION:2.0
PRODID:-//wp-events-plugin.com//7.2.3.1//EN
BEGIN:VEVENT
UID:537@roterfaden-oberberg.de
DTSTART:20260821T133000Z
DTEND:20260821T160000Z
DTSTAMP:20260105T134154Z
URL:https://www.roterfaden-oberberg.de/events/pony-detektive-das-grosse-ra
 etsel-vom-verschwundenen-hufeisen/
SUMMARY:Pony-Detektive – Das große Rätsel vom verschwundenen Hufeisen
DESCRIPTION:Bei diesem Event dreht sich alles um ein mysteriöses Rätsel: 
  \nEin wichtiges Hufeisen ist verschwunden – und nur echte Spürnasen k
 önnen den Fall lösen!  \nGemeinsam machen sich die Kinder auf die Suche 
 nach Hinweisen\, entschlüsseln Nachrichten und folgen geheimen Spuren dur
 ch Stall\, Hof und Wiese.\n\n\n\n\n\n\n\n\n\n
ATTACH;FMTTYPE=image/jpeg:https://www.roterfaden-oberberg.de/wp-content/up
 loads/2025/12/pony.jpg
CATEGORIES:Kinder,Workshop
LOCATION:Pferdehof Mildsiefen\, Mildsiefen 11\, Nümbrecht\, 51588\, Deutsc
 hland
X-APPLE-STRUCTURED-LOCATION;VALUE=URI;X-ADDRESS=Mildsiefen 11\, Nümbrecht\
 , 51588\, Deutschland;X-APPLE-RADIUS=100;X-TITLE=Pferdehof Mildsiefen:geo:
 0,0
END:VEVENT
END:VCALENDAR