BEGIN:VCALENDAR
VERSION:2.0
PRODID:-//wp-events-plugin.com//7.2.3.1//EN
BEGIN:VEVENT
UID:619@roterfaden-oberberg.de
DTSTART;VALUE=DATE:20260725
DTEND;VALUE=DATE:20260728
DTSTAMP:20260304T165359Z
URL:https://www.roterfaden-oberberg.de/events/schuetzenfest-muellenbach/
SUMMARY:Schützenfest Müllenbach
DESCRIPTION:Bonverkauf\, Kirmes\, Königsschießen\, Livemusik\, beste Bewi
 rtung! \n\nKeine Angst\, wir schießen nicht. Zumindest nicht nur. Na klar
 \, über Kimme und Korn ins Schwarze zu treffen\, gehört auch hier im Sch
 ützenverein Müllenbach dazu – doch wir sind kein Club von Waffenfanati
 kern. \n\nUnsere mehr als 1000 Mitglieder sind aus einem anderen Grund in 
 einem Schützenverein: Weil’s hier im schönen Möllenbiek Tradition ist
 ! Das Müllenbacher Schützenfest am vierten Wochenende im Juli gehört zu
  den bekanntesten Feiern in der Region. \n\nÜber drei Tage strömen tause
 nde Besucher in unser kleines Kirchdorf\, um die Züge zu bestaunen\, auf 
 der Kirmes einige Runden mit dem Karussell zu drehen oder bei den Bällen 
 das Tanzbein zu schwingen. So passiert’s bereits seit Jahrhunderten.\n \
 n \n
ATTACH;FMTTYPE=image/jpeg:https://www.roterfaden-oberberg.de/wp-content/up
 loads/2026/03/69a6ee03cbbed.png
CATEGORIES:Schützenfest
LOCATION:Schützenhalle Marienheide - Müllenbach\, Schützenstr. 10\, Mari
 enheide\, 51709\, Deutschland
X-APPLE-STRUCTURED-LOCATION;VALUE=URI;X-ADDRESS=Schützenstr. 10\, Marienhe
 ide\, 51709\, Deutschland;X-APPLE-RADIUS=100;X-TITLE=Schützenhalle Marien
 heide - Müllenbach:geo:0,0
END:VEVENT
END:VCALENDAR