BEGIN:VCALENDAR
VERSION:2.0
PRODID:-//wp-events-plugin.com//7.2.3.1//EN
BEGIN:VEVENT
UID:539@roterfaden-oberberg.de
DTSTART:20260919T140000Z
DTEND:20260919T163000Z
DTSTAMP:20260105T134943Z
URL:https://www.roterfaden-oberberg.de/events/stallarbeit-zum-mitmachen-un
 d-ponyzeit-pur/
SUMMARY:Stallarbeit zum Mitmachen und Ponyzeit pur
DESCRIPTION:Bei diesem Kinderabenteuer werden die kleinen Pferdefans selbst
  zum Stallprofi und lernen unsere Pferde ganz aus der Nähe kennen. \n\n\n
 \n\n\n\n\n\n\n
ATTACH;FMTTYPE=image/jpeg:https://www.roterfaden-oberberg.de/wp-content/up
 loads/2025/12/pony.jpg
CATEGORIES:Kinder,Workshop
LOCATION:Pferdehof Mildsiefen\, Mildsiefen 11\, Nümbrecht\, 51588\, Deutsc
 hland
X-APPLE-STRUCTURED-LOCATION;VALUE=URI;X-ADDRESS=Mildsiefen 11\, Nümbrecht\
 , 51588\, Deutschland;X-APPLE-RADIUS=100;X-TITLE=Pferdehof Mildsiefen:geo:
 0,0
END:VEVENT
END:VCALENDAR