BEGIN:VCALENDAR
VERSION:2.0
PRODID:-//wp-events-plugin.com//7.2.3.1//EN
BEGIN:VEVENT
UID:534@roterfaden-oberberg.de
DTSTART:20260807T133000Z
DTEND:20260807T160000Z
DTSTAMP:20260105T131807Z
URL:https://www.roterfaden-oberberg.de/events/voltigierspass-turnen-wie-kl
 eine-pferdeartisten/
SUMMARY:Voltigierspaß – Turnen wie kleine Pferdeartisten
DESCRIPTION:Bewegungsfreudige Kinder lernen beim spielerischen Voltigier-Ta
 g akrobatische Grundübungen\, probieren kleine Kunststücke aus und erleb
 en\, wie viel Freude Bewegung rund ums Pferd machen kann.   \nEin buntes\,
  fröhliches Event mit viel Bewegung\, Lachen und Ausprobieren.\n\n\n\n\n\
 n\n\n
ATTACH;FMTTYPE=image/jpeg:https://www.roterfaden-oberberg.de/wp-content/up
 loads/2025/12/pony.jpg
CATEGORIES:Kinder,Workshop
LOCATION:Pferdehof Mildsiefen\, Mildsiefen 11\, Nümbrecht\, 51588\, Deutsc
 hland
X-APPLE-STRUCTURED-LOCATION;VALUE=URI;X-ADDRESS=Mildsiefen 11\, Nümbrecht\
 , 51588\, Deutschland;X-APPLE-RADIUS=100;X-TITLE=Pferdehof Mildsiefen:geo:
 0,0
END:VEVENT
END:VCALENDAR