BEGIN:VCALENDAR
VERSION:2.0
PRODID:-//wp-events-plugin.com//7.2.3.1//EN
BEGIN:VEVENT
UID:543@roterfaden-oberberg.de
DTSTART:20261213T160000Z
DTEND:20261213T183000Z
DTSTAMP:20260105T141953Z
URL:https://www.roterfaden-oberberg.de/events/weihnachtszauber-fuer-die-ga
 nze-familie/
SUMMARY:Weihnachtszauber für die ganze Familie
DESCRIPTION:Am 3. Advent wird es magisch. \nDer Pferdehof Mildsiefen taucht
  in ein glitzerndes Lichterparadies ein und lädt zu einem zauberhaften We
 ihnachtserlebnis ein – perfekt für kleine und große Weihnachtsfans. \n
 Erleben Sie einen zauberhaften Adventsnachmittag voller Licht\, Wärme und
  Weihnachtszauber. \n\n\n\n\n\n\n\n\n\n
ATTACH;FMTTYPE=image/jpeg:https://www.roterfaden-oberberg.de/wp-content/up
 loads/2025/12/pony.jpg
CATEGORIES:Kinder,Workshop
LOCATION:Pferdehof Mildsiefen\, Mildsiefen 11\, Nümbrecht\, 51588\, Deutsc
 hland
X-APPLE-STRUCTURED-LOCATION;VALUE=URI;X-ADDRESS=Mildsiefen 11\, Nümbrecht\
 , 51588\, Deutschland;X-APPLE-RADIUS=100;X-TITLE=Pferdehof Mildsiefen:geo:
 0,0
END:VEVENT
END:VCALENDAR