BEGIN:VCALENDAR
VERSION:2.0
PRODID:-//wp-events-plugin.com//7.2.3.1//EN
BEGIN:VEVENT
UID:453@roterfaden-oberberg.de
DTSTART:20260626T160000Z
DTEND:20260626T210000Z
DTSTAMP:20251106T093945Z
URL:https://www.roterfaden-oberberg.de/events/weinfest/
SUMMARY:Weinfest
DESCRIPTION:Die letzte Woche im Juni ist traditionell der Termin für eine 
 Veranstaltung\, die von Beginn an wie keine zweite die Waldbröler*innen s
 owie Ihre Gäste aus Nah und Fern zusammengeführt hat. \n\nGibt es etwas 
 Schöneres\, als mit Freunden\, die einen guten Tropfen zu schätzen wisse
 n\, zusammenzusitzen und zu feiern?  \nDas Waldbröler Weinfest lädt gena
 u zu diesem Zweck ein.  \n\n
ATTACH;FMTTYPE=image/jpeg:https://www.roterfaden-oberberg.de/wp-content/up
 loads/2025/11/weinwaldbroel.jpg
LOCATION:Marktplatz Waldbröl\, Gerberstraße 6\, Waldbröl\, 51545 \, Deut
 schland
X-APPLE-STRUCTURED-LOCATION;VALUE=URI;X-ADDRESS=Gerberstraße 6\, Waldbröl
 \, 51545 \, Deutschland;X-APPLE-RADIUS=100;X-TITLE=Marktplatz Waldbröl:ge
 o:0,0
END:VEVENT
END:VCALENDAR